BEGIN:VCALENDAR
VERSION:2.0
PRODID:-//Geutebrück USA - ECPv6.15.20//NONSGML v1.0//EN
CALSCALE:GREGORIAN
METHOD:PUBLISH
X-WR-CALNAME:Geutebrück USA
X-ORIGINAL-URL:https://geutebruckusa.com
X-WR-CALDESC:Events for Geutebrück USA
REFRESH-INTERVAL;VALUE=DURATION:PT1H
X-Robots-Tag:noindex
X-PUBLISHED-TTL:PT1H
BEGIN:VTIMEZONE
TZID:America/Denver
BEGIN:DAYLIGHT
TZOFFSETFROM:-0700
TZOFFSETTO:-0600
TZNAME:MDT
DTSTART:20250309T090000
END:DAYLIGHT
BEGIN:STANDARD
TZOFFSETFROM:-0600
TZOFFSETTO:-0700
TZNAME:MST
DTSTART:20251102T080000
END:STANDARD
BEGIN:DAYLIGHT
TZOFFSETFROM:-0700
TZOFFSETTO:-0600
TZNAME:MDT
DTSTART:20260308T090000
END:DAYLIGHT
BEGIN:STANDARD
TZOFFSETFROM:-0600
TZOFFSETTO:-0700
TZNAME:MST
DTSTART:20261101T080000
END:STANDARD
BEGIN:DAYLIGHT
TZOFFSETFROM:-0700
TZOFFSETTO:-0600
TZNAME:MDT
DTSTART:20270314T090000
END:DAYLIGHT
BEGIN:STANDARD
TZOFFSETFROM:-0600
TZOFFSETTO:-0700
TZNAME:MST
DTSTART:20271107T080000
END:STANDARD
END:VTIMEZONE
BEGIN:VEVENT
DTSTART;TZID=America/Denver:20260323T100000
DTEND;TZID=America/Denver:20260327T150000
DTSTAMP:20260420T113313
CREATED:20251110T162740Z
LAST-MODIFIED:20251110T162740Z
UID:10000017-1774260000-1774623600@geutebruckusa.com
SUMMARY:ISC West 2026 - Las Vegas\, NV
DESCRIPTION:ISC West\, a SIA-sponsored event\, is the largest converged security trade event in the United States. Held annually at the Venetian Expo in Las Vegas\, Nevada\, ISC West offers the opportunity to discover the latest technologies and network\, learn and connect with thousands of security and public safety professionals.
URL:https://geutebruckusa.com/event/isc-west-2026-las-vegas-nv/
LOCATION:Venetial Expo – By Appointment Only
CATEGORIES:Trade Shows
ATTACH;FMTTYPE=image/jpeg:https://geutebruckusa.com/wp-content/uploads/2025/02/Las-Vegas-scaled.jpg
END:VEVENT
BEGIN:VEVENT
DTSTART;TZID=America/Denver:20260407T080000
DTEND;TZID=America/Denver:20260410T170000
DTSTAMP:20260420T113313
CREATED:20260306T124508Z
LAST-MODIFIED:20260306T124508Z
UID:10000018-1775548800-1775840400@geutebruckusa.com
SUMMARY:Geutebrück G-Core / G-SIM Certification Class
DESCRIPTION:Achieve Certified Engineer status on Geutebrück G-Core and G-SIM VMS Software Solutions in this comprehensive hands-on 4 day class held at the Geutebrück Academy in Tampa Florida.
URL:https://geutebruckusa.com/event/geutebruck-g-core-g-sim-certification-class-10/
LOCATION:Geutebrück Academy\, 537 US Highway 301 South\, Tampa\, FL\, 33619\, United States
CATEGORIES:Training
ATTACH;FMTTYPE=image/jpeg:https://geutebruckusa.com/wp-content/uploads/2025/02/Register-Now-scaled.jpg
END:VEVENT
BEGIN:VEVENT
DTSTART;TZID=America/Denver:20260512T080000
DTEND;TZID=America/Denver:20260515T170000
DTSTAMP:20260420T113313
CREATED:20260306T124653Z
LAST-MODIFIED:20260306T124653Z
UID:10000019-1778572800-1778864400@geutebruckusa.com
SUMMARY:Geutebrück G-Core / G-SIM Certification Class
DESCRIPTION:Achieve Certified Engineer status on Geutebrück G-Core and G-SIM VMS Software Solutions in this comprehensive hands-on 4 day class held at the Geutebrück Academy in Tampa Florida.
URL:https://geutebruckusa.com/event/geutebruck-g-core-g-sim-certification-class-11/
LOCATION:Geutebrück Academy\, 537 US Highway 301 South\, Tampa\, FL\, 33619\, United States
CATEGORIES:Training
ATTACH;FMTTYPE=image/jpeg:https://geutebruckusa.com/wp-content/uploads/2025/02/Register-Now-scaled.jpg
END:VEVENT
END:VCALENDAR